BEGIN:VCALENDAR
PRODID:-//eluceo/ical//2.0/EN
VERSION:2.0
CALSCALE:GREGORIAN
BEGIN:VEVENT
UID:47e7ee6c7315aab1d520b10f7ad81d76
DTSTAMP:20260422T082206Z
SUMMARY:[männliche E-Jugend Runde] CVJM Fellbach  - CVJM Hülben 
URL:https://www.eichenkreuzliga.de/handball/game/id/11384
DTSTART:20201107T120000
DTEND:20201107T130000
LOCATION:Zeppelinhalle\, 70734 Fellbach
END:VEVENT
END:VCALENDAR
