BEGIN:VCALENDAR
PRODID:-//eluceo/ical//2.0/EN
VERSION:2.0
CALSCALE:GREGORIAN
BEGIN:VEVENT
UID:f4f7f92826f8e2209a7401c00cd9bcab
DTSTAMP:20260422T065559Z
SUMMARY:[männliche E-Jugend Runde] CVJM Fellbach  - CVJM Kirchentellinsfur
 t 
URL:https://www.eichenkreuzliga.de/handball/game/id/11385
DTSTART:20201107T140000
DTEND:20201107T150000
LOCATION:Zeppelinhalle\, 70734 Fellbach
END:VEVENT
END:VCALENDAR
