BEGIN:VCALENDAR
PRODID:-//eluceo/ical//2.0/EN
VERSION:2.0
CALSCALE:GREGORIAN
BEGIN:VEVENT
UID:1c38de040bace19faa723e72f8412776
DTSTAMP:20260422T065710Z
SUMMARY:[männliche E-Jugend Runde] CVJM Enzweihingen  - CVJM Fellbach 
URL:https://www.eichenkreuzliga.de/handball/game/id/11442
DTSTART:20210123T141000
DTEND:20210123T151000
LOCATION:Sporthalle Waldhäuser-Ost\, 72076 Tübingen
END:VEVENT
END:VCALENDAR

