BEGIN:VCALENDAR
PRODID:-//eluceo/ical//2.0/EN
VERSION:2.0
CALSCALE:GREGORIAN
BEGIN:VEVENT
UID:9d63ee1653a13cc366ae0d9adf00a4a6
DTSTAMP:20260422T065710Z
SUMMARY:[männliche E-Jugend Runde] EK Höfingen  - EJW Münchingen 
URL:https://www.eichenkreuzliga.de/handball/game/id/11394
DTSTART:20201107T130000
DTEND:20201107T140000
LOCATION:Strohgäuhalle\, 71229 Höfingen
END:VEVENT
END:VCALENDAR
