BEGIN:VCALENDAR
PRODID:-//eluceo/ical//2.0/EN
VERSION:2.0
CALSCALE:GREGORIAN
BEGIN:VEVENT
UID:f13faada1319ed8a4bf837d6ded4326c
DTSTAMP:20260422T065816Z
SUMMARY:[männliche E-Jugend Runde] CVJM HB Dußlingen-Gomaringen 2 A.K. - 
 CVJM Fellbach 
URL:https://www.eichenkreuzliga.de/handball/game/id/11421
DTSTART:20201121T150500
DTEND:20201121T160500
LOCATION:Hönisch Sporthalle\, 72144 Dusslingen
END:VEVENT
END:VCALENDAR
