BEGIN:VCALENDAR
PRODID:-//eluceo/ical//2.0/EN
VERSION:2.0
CALSCALE:GREGORIAN
BEGIN:VEVENT
UID:12f4daa48bd2b324e145dcb7164e31b7
DTSTAMP:20260422T094816Z
SUMMARY:[männliche E-Jugend Runde] EK Höfingen  - EK Bernhausen 1
URL:https://www.eichenkreuzliga.de/handball/game/id/11396
DTSTART:20201107T173000
DTEND:20201107T183000
LOCATION:Strohgäuhalle\, 71229 Höfingen
END:VEVENT
END:VCALENDAR
