BEGIN:VCALENDAR
PRODID:-//eluceo/ical//2.0/EN
VERSION:2.0
CALSCALE:GREGORIAN
BEGIN:VEVENT
UID:7efdd7249c5c2d0de97d610b8d530ea8
DTSTAMP:20260422T094834Z
SUMMARY:[männliche E-Jugend Runde] EJW Münchingen  - EK Bernhausen 1
URL:https://www.eichenkreuzliga.de/handball/game/id/11398
DTSTART:20201107T163000
DTEND:20201107T173000
LOCATION:Strohgäuhalle\, 71229 Höfingen
END:VEVENT
END:VCALENDAR
