BEGIN:VCALENDAR
PRODID:-//eluceo/ical//2.0/EN
VERSION:2.0
CALSCALE:GREGORIAN
BEGIN:VEVENT
UID:fb3d4bb558ab79fe265795abd03eb7ec
DTSTAMP:20260422T065441Z
SUMMARY:[männliche E-Jugend Runde] CVJM  Walddorfhäslach  - CVJM Hülben 
URL:https://www.eichenkreuzliga.de/handball/game/id/11399
DTSTART:20201213T150000
DTEND:20201213T160000
LOCATION:Ballspielhalle\, 72141 Walddorfhäslach
END:VEVENT
END:VCALENDAR
