BEGIN:VCALENDAR
PRODID:-//eluceo/ical//2.0/EN
VERSION:2.0
CALSCALE:GREGORIAN
BEGIN:VEVENT
UID:2935a03eb2c5d252557677619a7d5f38
DTSTAMP:20260422T065816Z
SUMMARY:[männliche E-Jugend Runde] CVJM  Walddorfhäslach  - CVJM Kirchent
 ellinsfurt 
URL:https://www.eichenkreuzliga.de/handball/game/id/11402
DTSTART:20201213T122000
DTEND:20201213T132000
LOCATION:Ballspielhalle\, 72141 Walddorfhäslach
END:VEVENT
END:VCALENDAR

