BEGIN:VCALENDAR
PRODID:-//eluceo/ical//2.0/EN
VERSION:2.0
CALSCALE:GREGORIAN
BEGIN:VEVENT
UID:ba3ed8d5dec3ca9eb2b06bf72ad39744
DTSTAMP:20260422T065441Z
SUMMARY:[männliche E-Jugend Runde] CVJM SG Mössingen/Belsen  - EK Köngen
  
URL:https://www.eichenkreuzliga.de/handball/game/id/11409
DTSTART:20201213T140000
DTEND:20201213T150000
LOCATION:Jahnhalle 2\, 72116 Mössingen
END:VEVENT
END:VCALENDAR
