BEGIN:VCALENDAR
PRODID:-//eluceo/ical//2.0/EN
VERSION:2.0
CALSCALE:GREGORIAN
BEGIN:VEVENT
UID:544c57bcfb3577be262fbc25f4c2e99a
DTSTAMP:20260422T065700Z
SUMMARY:[männliche E-Jugend Runde] CVJM SG Mössingen/Belsen  - EK Höfing
 en 
URL:https://www.eichenkreuzliga.de/handball/game/id/11410
DTSTART:20201213T170000
DTEND:20201213T180000
LOCATION:Jahnhalle 2\, 72116 Mössingen
END:VEVENT
END:VCALENDAR
