BEGIN:VCALENDAR
PRODID:-//eluceo/ical//2.0/EN
VERSION:2.0
CALSCALE:GREGORIAN
BEGIN:VEVENT
UID:399884307c26cd009dfa53aaae3dd0f9
DTSTAMP:20260422T065716Z
SUMMARY:[männliche E-Jugend Runde] EJW Münchingen  - CVJM HB Dußlingen-G
 omaringen 1
URL:https://www.eichenkreuzliga.de/handball/game/id/11412
DTSTART:20201213T130000
DTEND:20201213T140000
LOCATION:Sporthalle Münchingen\, 70825 Korntal-Münchingen
END:VEVENT
END:VCALENDAR
