BEGIN:VCALENDAR
PRODID:-//eluceo/ical//2.0/EN
VERSION:2.0
CALSCALE:GREGORIAN
BEGIN:VEVENT
UID:27b05ed2fe7804b3e1bf0cd23ee78547
DTSTAMP:20260422T065700Z
SUMMARY:[männliche E-Jugend Runde] CVJM HB Dußlingen-Gomaringen 1 - CVJM 
 Fellbach 
URL:https://www.eichenkreuzliga.de/handball/game/id/11420
DTSTART:20201121T140500
DTEND:20201121T150500
LOCATION:Hönisch Sporthalle\, 72144 Dusslingen
END:VEVENT
END:VCALENDAR
