BEGIN:VCALENDAR
PRODID:-//eluceo/ical//2.0/EN
VERSION:2.0
CALSCALE:GREGORIAN
BEGIN:VEVENT
UID:3c5cdebd4a83f9e7a2b77d69fd83297c
DTSTAMP:20260422T082427Z
SUMMARY:[männliche E-Jugend Runde] CVJM HB Dußlingen-Gomaringen 1 - CVJM 
 Hagelloch - Kusterdingen 1
URL:https://www.eichenkreuzliga.de/handball/game/id/11422
DTSTART:20201121T121500
DTEND:20201121T131500
LOCATION:Hönisch Sporthalle\, 72144 Dusslingen
END:VEVENT
END:VCALENDAR
