BEGIN:VCALENDAR
PRODID:-//eluceo/ical//2.0/EN
VERSION:2.0
CALSCALE:GREGORIAN
BEGIN:VEVENT
UID:a6cfede4f9ef27a7324d793761f7763f
DTSTAMP:20260422T065710Z
SUMMARY:[männliche E-Jugend Runde] CVJM HB Dußlingen-Gomaringen 2 A.K. - 
 CVJM Hagelloch - Kusterdingen 1
URL:https://www.eichenkreuzliga.de/handball/game/id/11423
DTSTART:20201121T130500
DTEND:20201121T140500
LOCATION:Hönisch Sporthalle\, 72144 Dusslingen
END:VEVENT
END:VCALENDAR
