BEGIN:VCALENDAR
PRODID:-//eluceo/ical//2.0/EN
VERSION:2.0
CALSCALE:GREGORIAN
BEGIN:VEVENT
UID:bd208181ac9fa453ab5f72873afc9352
DTSTAMP:20260422T065441Z
SUMMARY:[männliche E-Jugend Runde] CVJM Kusterdingen e.V.  - CVJM  Walddor
 fhäslach 
URL:https://www.eichenkreuzliga.de/handball/game/id/11432
DTSTART:20201107T130000
DTEND:20201107T140000
LOCATION:Stadionhalle\, 71696 Möglingen
END:VEVENT
END:VCALENDAR
