BEGIN:VCALENDAR
PRODID:-//eluceo/ical//2.0/EN
VERSION:2.0
CALSCALE:GREGORIAN
BEGIN:VEVENT
UID:d668cfa4f0176232cbf1c05d21a4cb52
DTSTAMP:20260422T082352Z
SUMMARY:[männliche E-Jugend Runde] CVJM Möglingen  - CVJM Enzweihingen 
URL:https://www.eichenkreuzliga.de/handball/game/id/11433
DTSTART:20201107T110000
DTEND:20201107T120000
LOCATION:Stadionhalle\, 71696 Möglingen
END:VEVENT
END:VCALENDAR
