BEGIN:VCALENDAR
PRODID:-//eluceo/ical//2.0/EN
VERSION:2.0
CALSCALE:GREGORIAN
BEGIN:VEVENT
UID:642fc3a029733a0d2b9171604e2fd9e3
DTSTAMP:20260422T065603Z
SUMMARY:[männliche E-Jugend Runde] CVJM Kusterdingen e.V.  - CVJM Enzweihi
 ngen 
URL:https://www.eichenkreuzliga.de/handball/game/id/11434
DTSTART:20201107T120000
DTEND:20201107T130000
LOCATION:Stadionhalle\, 71696 Möglingen
END:VEVENT
END:VCALENDAR
