BEGIN:VCALENDAR
PRODID:-//eluceo/ical//2.0/EN
VERSION:2.0
CALSCALE:GREGORIAN
BEGIN:VEVENT
UID:06288ad3794aa6e8e0fc6b72be2268fe
DTSTAMP:20260422T065710Z
SUMMARY:[männliche E-Jugend Runde] CVJM Hülben  - EK Höfingen 
URL:https://www.eichenkreuzliga.de/handball/game/id/11436
DTSTART:20201121T130000
DTEND:20201121T140000
LOCATION:Burgschulhalle\, 73257 Köngen
END:VEVENT
END:VCALENDAR
