BEGIN:VCALENDAR
PRODID:-//eluceo/ical//2.0/EN
VERSION:2.0
CALSCALE:GREGORIAN
BEGIN:VEVENT
UID:8320e0bf1dec02cd2586182f97680f1f
DTSTAMP:20260422T065603Z
SUMMARY:[männliche E-Jugend Runde] EK Köngen  - CVJM Kirchentellinsfurt 
URL:https://www.eichenkreuzliga.de/handball/game/id/11437
DTSTART:20201121T150000
DTEND:20201121T160000
LOCATION:Burgschulhalle\, 73257 Köngen
END:VEVENT
END:VCALENDAR
