BEGIN:VCALENDAR
PRODID:-//eluceo/ical//2.0/EN
VERSION:2.0
CALSCALE:GREGORIAN
BEGIN:VEVENT
UID:1bdeea1df73cbe719227c58246bfb4b7
DTSTAMP:20260422T065700Z
SUMMARY:[männliche E-Jugend Runde] EK Höfingen  - CVJM Kirchentellinsfurt
  
URL:https://www.eichenkreuzliga.de/handball/game/id/11438
DTSTART:20201121T140000
DTEND:20201121T150000
LOCATION:Burgschulhalle\, 73257 Köngen
END:VEVENT
END:VCALENDAR
