BEGIN:VCALENDAR
PRODID:-//eluceo/ical//2.0/EN
VERSION:2.0
CALSCALE:GREGORIAN
BEGIN:VEVENT
UID:e3d55f6d7018cd876104d7e4787c2981
DTSTAMP:20260422T065700Z
SUMMARY:[männliche E-Jugend Runde] EK Köngen  - CVJM Hülben 
URL:https://www.eichenkreuzliga.de/handball/game/id/11439
DTSTART:20201121T120000
DTEND:20201121T130000
LOCATION:Burgschulhalle\, 73257 Köngen
END:VEVENT
END:VCALENDAR
