BEGIN:VCALENDAR
PRODID:-//eluceo/ical//2.0/EN
VERSION:2.0
CALSCALE:GREGORIAN
BEGIN:VEVENT
UID:361415c27a0bc808114f8e6b2c7f6e72
DTSTAMP:20260422T082156Z
SUMMARY:[männliche E-Jugend Runde] CVJM  Walddorfhäslach  - CVJM Fellbach
  
URL:https://www.eichenkreuzliga.de/handball/game/id/11440
DTSTART:20210123T132000
DTEND:20210123T142000
LOCATION:Sporthalle Waldhäuser-Ost\, 72076 Tübingen
END:VEVENT
END:VCALENDAR
