BEGIN:VCALENDAR
PRODID:-//eluceo/ical//2.0/EN
VERSION:2.0
CALSCALE:GREGORIAN
BEGIN:VEVENT
UID:b3a1d876571929c135da24cbfe4240bd
DTSTAMP:20260422T065710Z
SUMMARY:[männliche E-Jugend Runde] CVJM Hagelloch - Kusterdingen 1 - CVJM 
  Walddorfhäslach 
URL:https://www.eichenkreuzliga.de/handball/game/id/11443
DTSTART:20210123T123000
DTEND:20210123T133000
LOCATION:Sporthalle Waldhäuser-Ost\, 72076 Tübingen
END:VEVENT
END:VCALENDAR
