BEGIN:VCALENDAR
PRODID:-//eluceo/ical//2.0/EN
VERSION:2.0
CALSCALE:GREGORIAN
BEGIN:VEVENT
UID:31a2317c22c00c2f367e9b0b40d9d89f
DTSTAMP:20260422T065710Z
SUMMARY:[männliche E-Jugend Runde] CVJM Plochingen a.K. - EJW Münchingen 
URL:https://www.eichenkreuzliga.de/handball/game/id/11450
DTSTART:20210124T150000
DTEND:20210124T160000
LOCATION:Gymnasiumsporthalle\, 73207 Plochingen
END:VEVENT
END:VCALENDAR
