BEGIN:VCALENDAR
PRODID:-//eluceo/ical//2.0/EN
VERSION:2.0
CALSCALE:GREGORIAN
BEGIN:VEVENT
UID:5d55cd62bd3ce07ea31df0af06edec03
DTSTAMP:20260422T065548Z
SUMMARY:[männliche E-Jugend Runde] CVJM  Walddorfhäslach  - EK Höfingen 
URL:https://www.eichenkreuzliga.de/handball/game/id/11459
DTSTART:20210327T150000
DTEND:20210327T160000
LOCATION:Schulsporthalle\, 71665 Enzweihingen
END:VEVENT
END:VCALENDAR
