BEGIN:VCALENDAR
PRODID:-//eluceo/ical//2.0/EN
VERSION:2.0
CALSCALE:GREGORIAN
BEGIN:VEVENT
UID:67d4b8e5e1f0fbd284b2d7720b033933
DTSTAMP:20260422T065700Z
SUMMARY:[männliche E-Jugend Runde] EK Köngen  - CVJM Enzweihingen 
URL:https://www.eichenkreuzliga.de/handball/game/id/11460
DTSTART:20210327T170000
DTEND:20210327T180000
LOCATION:Schulsporthalle\, 71665 Enzweihingen
END:VEVENT
END:VCALENDAR
