BEGIN:VCALENDAR
PRODID:-//eluceo/ical//2.0/EN
VERSION:2.0
CALSCALE:GREGORIAN
BEGIN:VEVENT
UID:84ddd096c518fc06d7d8914799b31dd2
DTSTAMP:20260422T065451Z
SUMMARY:[männliche E-Jugend Runde] CVJM Enzweihingen  - EK Höfingen 
URL:https://www.eichenkreuzliga.de/handball/game/id/11461
DTSTART:20210327T140000
DTEND:20210327T150000
LOCATION:Schulsporthalle\, 71665 Enzweihingen
END:VEVENT
END:VCALENDAR
