BEGIN:VCALENDAR
PRODID:-//eluceo/ical//2.0/EN
VERSION:2.0
CALSCALE:GREGORIAN
BEGIN:VEVENT
UID:d80261025bb3222b3f9bb6a07e161df5
DTSTAMP:20260422T065548Z
SUMMARY:[männliche E-Jugend Runde] CVJM Fellbach  - EJW Münchingen 
URL:https://www.eichenkreuzliga.de/handball/game/id/11463
DTSTART:20210327T153000
DTEND:20210327T163000
LOCATION:Zeppelinhalle\, 70734 Fellbach
END:VEVENT
END:VCALENDAR
