BEGIN:VCALENDAR
PRODID:-//eluceo/ical//2.0/EN
VERSION:2.0
CALSCALE:GREGORIAN
BEGIN:VEVENT
UID:d0672200ffae81bb9adc46b5a8dcb8bc
DTSTAMP:20260422T065716Z
SUMMARY:[männliche E-Jugend Runde] CVJM Fellbach  - EK Bernhausen 1
URL:https://www.eichenkreuzliga.de/handball/game/id/11466
DTSTART:20210327T123000
DTEND:20210327T133000
LOCATION:Zeppelinhalle\, 70734 Fellbach
END:VEVENT
END:VCALENDAR
