BEGIN:VCALENDAR
PRODID:-//eluceo/ical//2.0/EN
VERSION:2.0
CALSCALE:GREGORIAN
BEGIN:VEVENT
UID:a13538bcc625b463a2bda50774b481df
DTSTAMP:20260422T065817Z
SUMMARY:[männliche E-Jugend Runde] CVJM Kusterdingen e.V.  - CVJM HB Dußl
 ingen-Gomaringen 1
URL:https://www.eichenkreuzliga.de/handball/game/id/11471
DTSTART:20210327T130000
DTEND:20210327T140000
LOCATION:Härtensporthalle\, 72127 Kusterdingen
END:VEVENT
END:VCALENDAR
