BEGIN:VCALENDAR
PRODID:-//eluceo/ical//2.0/EN
VERSION:2.0
CALSCALE:GREGORIAN
BEGIN:VEVENT
UID:a0b18142fa38e5a4bedcebac23c52e93
DTSTAMP:20260422T065603Z
SUMMARY:[männliche E-Jugend Runde] CVJM Kusterdingen e.V.  - CVJM HB Dußl
 ingen-Gomaringen 2 A.K.
URL:https://www.eichenkreuzliga.de/handball/game/id/11472
DTSTART:20210327T160000
DTEND:20210327T170000
LOCATION:Härtensporthalle\, 72127 Kusterdingen
END:VEVENT
END:VCALENDAR
