BEGIN:VCALENDAR
PRODID:-//eluceo/ical//2.0/EN
VERSION:2.0
CALSCALE:GREGORIAN
BEGIN:VEVENT
UID:dcb34b3eedf78ee442d1236987a7f62e
DTSTAMP:20260422T065451Z
SUMMARY:[männliche E-Jugend Runde] CVJM HB Dußlingen-Gomaringen 2 A.K. - 
 CVJM Möglingen 
URL:https://www.eichenkreuzliga.de/handball/game/id/11474
DTSTART:20210327T140000
DTEND:20210327T150000
LOCATION:Härtensporthalle\, 72127 Kusterdingen
END:VEVENT
END:VCALENDAR
