BEGIN:VCALENDAR
PRODID:-//eluceo/ical//2.0/EN
VERSION:2.0
CALSCALE:GREGORIAN
BEGIN:VEVENT
UID:86aca69142be54f16354ff5c6fef0925
DTSTAMP:20260422T082332Z
SUMMARY:[männliche E-Jugend Runde] EK Höfingen  - CVJM Fellbach 
URL:https://www.eichenkreuzliga.de/handball/game/id/11475
DTSTART:20210313T130000
DTEND:20210313T140000
LOCATION:Strohgäuhalle\, 71229 Höfingen
END:VEVENT
END:VCALENDAR
