BEGIN:VCALENDAR
PRODID:-//eluceo/ical//2.0/EN
VERSION:2.0
CALSCALE:GREGORIAN
BEGIN:VEVENT
UID:a964639b87abe8a6184b58b15c96e91b
DTSTAMP:20260422T065710Z
SUMMARY:[männliche E-Jugend Runde] CVJM Hagelloch - Kusterdingen 1 - EK K
 öngen 
URL:https://www.eichenkreuzliga.de/handball/game/id/11476
DTSTART:20210313T153000
DTEND:20210313T163000
LOCATION:Strohgäuhalle\, 71229 Höfingen
END:VEVENT
END:VCALENDAR
