BEGIN:VCALENDAR
PRODID:-//eluceo/ical//2.0/EN
VERSION:2.0
CALSCALE:GREGORIAN
BEGIN:VEVENT
UID:950f28c89d0abdb9b8ae7c4a49240bbf
DTSTAMP:20260422T065603Z
SUMMARY:[männliche E-Jugend Runde] CVJM Fellbach  - EK Köngen 
URL:https://www.eichenkreuzliga.de/handball/game/id/11478
DTSTART:20210313T140000
DTEND:20210313T150000
LOCATION:Strohgäuhalle\, 71229 Höfingen
END:VEVENT
END:VCALENDAR
