BEGIN:VCALENDAR
PRODID:-//eluceo/ical//2.0/EN
VERSION:2.0
CALSCALE:GREGORIAN
BEGIN:VEVENT
UID:124712a08d837b2a7ae8f6f4a44a70a8
DTSTAMP:20260422T065441Z
SUMMARY:[männliche E-Jugend Runde] CVJM Hülben  - EJW Münchingen 
URL:https://www.eichenkreuzliga.de/handball/game/id/11484
DTSTART:20210313T145000
DTEND:20210313T155000
LOCATION:Sporthalle\, 72138 Kirchentellinsfurt
END:VEVENT
END:VCALENDAR
