BEGIN:VCALENDAR
PRODID:-//eluceo/ical//2.0/EN
VERSION:2.0
CALSCALE:GREGORIAN
BEGIN:VEVENT
UID:40d1bad66de4797c9dfd67db98b48381
DTSTAMP:20260422T065604Z
SUMMARY:[männliche E-Jugend Runde] CVJM Kirchentellinsfurt  - EK Bernhause
 n 1
URL:https://www.eichenkreuzliga.de/handball/game/id/11485
DTSTART:20210313T130000
DTEND:20210313T140000
LOCATION:Sporthalle\, 72138 Kirchentellinsfurt
END:VEVENT
END:VCALENDAR
