BEGIN:VCALENDAR
PRODID:-//eluceo/ical//2.0/EN
VERSION:2.0
CALSCALE:GREGORIAN
BEGIN:VEVENT
UID:928535694ba9227d9a2a5de771cadd81
DTSTAMP:20260422T065558Z
SUMMARY:[männliche E-Jugend Runde] CVJM Hülben  - CVJM HB Dußlingen-Goma
 ringen 2 A.K.
URL:https://www.eichenkreuzliga.de/handball/game/id/11499
DTSTART:20210207T135000
DTEND:20210207T145000
LOCATION:Hönisch Sporthalle\, 72144 Dusslingen
END:VEVENT
END:VCALENDAR
