BEGIN:VCALENDAR
PRODID:-//eluceo/ical//2.0/EN
VERSION:2.0
CALSCALE:GREGORIAN
BEGIN:VEVENT
UID:7c92b6888a1ab0a5258079393ea9726d
DTSTAMP:20260422T094840Z
SUMMARY:[männliche E-Jugend Runde] CVJM Fellbach  - CVJM SG Mössingen/Bel
 sen 
URL:https://www.eichenkreuzliga.de/handball/game/id/11507
DTSTART:20210207T141000
DTEND:20210207T151000
LOCATION:Paul-Horn-Arena\, 72072 Tübingen
END:VEVENT
END:VCALENDAR
