BEGIN:VCALENDAR
PRODID:-//eluceo/ical//2.0/EN
VERSION:2.0
CALSCALE:GREGORIAN
BEGIN:VEVENT
UID:941a63781c7862ae62e1e766ebab8bd6
DTSTAMP:20260422T065548Z
SUMMARY:[männliche E-Jugend Runde] CVJM Hagelloch - Kusterdingen 1 - CVJM 
 SG Mössingen/Belsen 
URL:https://www.eichenkreuzliga.de/handball/game/id/11508
DTSTART:20210207T122000
DTEND:20210207T132000
LOCATION:Paul-Horn-Arena\, 72072 Tübingen
END:VEVENT
END:VCALENDAR
