BEGIN:VCALENDAR
PRODID:-//eluceo/ical//2.0/EN
VERSION:2.0
CALSCALE:GREGORIAN
BEGIN:VEVENT
UID:bcad9d815f9a515df0db76d38fd3a50b
DTSTAMP:20260422T065715Z
SUMMARY:[männliche E-Jugend Runde] CVJM Hagelloch - Kusterdingen 1 - CVJM 
 Plochingen a.K.
URL:https://www.eichenkreuzliga.de/handball/game/id/11509
DTSTART:20210207T150000
DTEND:20210207T160000
LOCATION:Paul-Horn-Arena\, 72072 Tübingen
END:VEVENT
END:VCALENDAR
