BEGIN:VCALENDAR
PRODID:-//eluceo/ical//2.0/EN
VERSION:2.0
CALSCALE:GREGORIAN
BEGIN:VEVENT
UID:67985db2b80fb148ba967a95bed9e535
DTSTAMP:20260422T065451Z
SUMMARY:[männliche E-Jugend Runde] CVJM  Walddorfhäslach  - EK Bernhausen
  1
URL:https://www.eichenkreuzliga.de/handball/game/id/11519
DTSTART:20210207T145000
DTEND:20210207T155000
LOCATION:Sporthalle Münchingen\, 70825 Korntal-Münchingen
END:VEVENT
END:VCALENDAR
