BEGIN:VCALENDAR
PRODID:-//eluceo/ical//2.0/EN
VERSION:2.0
CALSCALE:GREGORIAN
BEGIN:VEVENT
UID:3a5319b1898c3b2c77032478a53631fe
DTSTAMP:20260422T082132Z
SUMMARY:[männliche E-Jugend Runde] EJW Münchingen  - CVJM Enzweihingen 
URL:https://www.eichenkreuzliga.de/handball/game/id/11520
DTSTART:20210207T130000
DTEND:20210207T140000
LOCATION:Sporthalle Münchingen\, 70825 Korntal-Münchingen
END:VEVENT
END:VCALENDAR
