BEGIN:VCALENDAR
PRODID:-//eluceo/ical//2.0/EN
VERSION:2.0
CALSCALE:GREGORIAN
BEGIN:VEVENT
UID:930204cc9e7fa8d99cb72fbbc4a8bf0d
DTSTAMP:20260422T094840Z
SUMMARY:[männliche E-Jugend Runde] CVJM Enzweihingen  - EK Bernhausen 1
URL:https://www.eichenkreuzliga.de/handball/game/id/11521
DTSTART:20210207T135000
DTEND:20210207T145000
LOCATION:Sporthalle Münchingen\, 70825 Korntal-Münchingen
END:VEVENT
END:VCALENDAR
