BEGIN:VCALENDAR
PRODID:-//eluceo/ical//2.0/EN
VERSION:2.0
CALSCALE:GREGORIAN
BEGIN:VEVENT
UID:7efce6648845129b280a2656b21de721
DTSTAMP:20260422T065441Z
SUMMARY:[männliche E-Jugend Runde] CVJM Kusterdingen e.V.  - EK Höfingen 
URL:https://www.eichenkreuzliga.de/handball/game/id/11522
DTSTART:20210206T130000
DTEND:20210206T140000
LOCATION:Stadionhalle\, 71696 Möglingen
END:VEVENT
END:VCALENDAR
