BEGIN:VCALENDAR
PRODID:-//eluceo/ical//2.0/EN
VERSION:2.0
CALSCALE:GREGORIAN
BEGIN:VEVENT
UID:69a6e8ae91c4c2a23123dc4f7a8b1f1e
DTSTAMP:20260422T082141Z
SUMMARY:[männliche E-Jugend Runde] CVJM Möglingen  - EK Höfingen 
URL:https://www.eichenkreuzliga.de/handball/game/id/11524
DTSTART:20210206T120000
DTEND:20210206T130000
LOCATION:Stadionhalle\, 71696 Möglingen
END:VEVENT
END:VCALENDAR
