BEGIN:VCALENDAR
PRODID:-//eluceo/ical//2.0/EN
VERSION:2.0
CALSCALE:GREGORIAN
BEGIN:VEVENT
UID:1eb762b5a8a93fe6c9e0be34a84b4bf8
DTSTAMP:20260422T065451Z
SUMMARY:[männliche E-Jugend Runde] CVJM HB Dußlingen-Gomaringen 2 A.K. - 
 CVJM Enzweihingen 
URL:https://www.eichenkreuzliga.de/handball/game/id/11526
DTSTART:20210313T145000
DTEND:20210313T155000
LOCATION:Hönisch Sporthalle\, 72144 Dusslingen
END:VEVENT
END:VCALENDAR
