BEGIN:VCALENDAR
PRODID:-//eluceo/ical//2.0/EN
VERSION:2.0
CALSCALE:GREGORIAN
BEGIN:VEVENT
UID:4aa58e67133b432798e4adefeab6ba4a
DTSTAMP:20260422T110802Z
SUMMARY:[Frauen Landesliga] CVJM  Walddorfhäslach  - EK Bernhausen 
URL:https://www.eichenkreuzliga.de/handball/game/id/11629
DTSTART:20210418T150000
DTEND:20210418T160000
LOCATION:Ballspielhalle\, 72141 Walddorfhäslach
END:VEVENT
END:VCALENDAR
