BEGIN:VCALENDAR
PRODID:-//eluceo/ical//2.0/EN
VERSION:2.0
CALSCALE:GREGORIAN
BEGIN:VEVENT
UID:92ea11473a69d285c0b02141183af65f
DTSTAMP:20260422T110718Z
SUMMARY:[Frauen Landesliga] CVJM  Walddorfhäslach  - CVJM Möglingen 
URL:https://www.eichenkreuzliga.de/handball/game/id/11633
DTSTART:20201011T161500
DTEND:20201011T171500
LOCATION:Ballspielhalle\, 72141 Walddorfhäslach
END:VEVENT
END:VCALENDAR
ND:VCALENDAR
